BEGIN:VCALENDAR
VERSION:2.0
PRODID:-//ArtHotel Kiebitzberg® - ECPv6.15.20//NONSGML v1.0//EN
CALSCALE:GREGORIAN
METHOD:PUBLISH
X-ORIGINAL-URL:https://arthotel-kiebitzberg.de/fr
X-WR-CALDESC:Évènements pour ArtHotel Kiebitzberg®
REFRESH-INTERVAL;VALUE=DURATION:PT1H
X-Robots-Tag:noindex
X-PUBLISHED-TTL:PT1H
BEGIN:VTIMEZONE
TZID:Europe/Berlin
BEGIN:DAYLIGHT
TZOFFSETFROM:+0100
TZOFFSETTO:+0200
TZNAME:CEST
DTSTART:20250330T010000
END:DAYLIGHT
BEGIN:STANDARD
TZOFFSETFROM:+0200
TZOFFSETTO:+0100
TZNAME:CET
DTSTART:20251026T010000
END:STANDARD
BEGIN:DAYLIGHT
TZOFFSETFROM:+0100
TZOFFSETTO:+0200
TZNAME:CEST
DTSTART:20260329T010000
END:DAYLIGHT
BEGIN:STANDARD
TZOFFSETFROM:+0200
TZOFFSETTO:+0100
TZNAME:CET
DTSTART:20261025T010000
END:STANDARD
BEGIN:DAYLIGHT
TZOFFSETFROM:+0100
TZOFFSETTO:+0200
TZNAME:CEST
DTSTART:20270328T010000
END:DAYLIGHT
BEGIN:STANDARD
TZOFFSETFROM:+0200
TZOFFSETTO:+0100
TZNAME:CET
DTSTART:20271031T010000
END:STANDARD
END:VTIMEZONE
BEGIN:VEVENT
DTSTART;TZID=Europe/Berlin:20260425T190000
DTEND;TZID=Europe/Berlin:20260425T210000
DTSTAMP:20260420T194233
CREATED:20250415T110913Z
LAST-MODIFIED:20251222T092903Z
UID:1798657-1777143600-1777150800@arthotel-kiebitzberg.de
SUMMARY:Abwesenheitsnotizen - Comedy-Night mit Lennart Schilgen
DESCRIPTION:Klavier – Gitarre – loses Mundwerk – Abwesenheitsnotizen. Lieder & Gedichte. Ständig erreichbar sein war gestern. Lennart Schilgen meldet sich mit seinem dritten Programm zurück – und glänzt durch Abwesenheit. Wenn er nicht gerade Konzerte gibt und Kleinkunstpreise einheimst (Prix Pantheon\, Stuttgarter Besen\, u.v.m.) macht er vor allem nämlich eins: sich davon. Unter anderem geht’s auf Radtour\, ins Kloster und ins kommunistische Sommercamp. Oder auch nur in die Untiefen seiner Gedanken\, was oft abenteuerlich genug ist. Herauskommen Lieder über die Ab- und Umwege in der Welt und im eigenen Kopf. Voller  Leichtigkeit und Witz\, aber auch ohne Scheu davor\, sich den dunklen Ecken zu widmen. So wird diesmal teils jahrelang unter den Teppich Gekehrtes hervorgekramt: Die alte PUR-Kassette. Die Grundschulzeugnisse. Die Sache mit der Nachtbushaltestelle. Zum Glück führt Schilgen sicher über jeden Abgrund – getragen von seinem versierten Klavier- und Gitarrenspiel\, seiner Stimme und\nseinem „wachen Geist\, mit Herz und Humor und hinterhältigen Pointen“ (Laudatio zur ‚Tuttlinger Krähe‘). Und wenn alle Stricke reißen\, gibt’s ja immer noch die Gedichte: kleine\, sprachliche Wundertüten\, zu tiefst albern\, in höchstem Maße kunstvoll. Die erst kürzlich erschienen „Gesammelten Werke“ sind\, wenn damit hier kurz angegeben werden darf\, in Lyrikband-Maßstäben bereits sowas wie ein Bestseller. Noch Fragen? Dann können Sie ihm gerne jederzeit eine Mail schreiben. Er antwortet halt nicht. Also: am besten einfach direkt zum Konzert kommen. (Pressetext) \n  \nBuchen Sie Ihr Ticket gern hier!
URL:https://arthotel-kiebitzberg.de/fr/event/comedy-night-mit-lennart-schilgen/
LOCATION:ArtHotel Kiebitzberg®\, Schönberger Weg 6\, Havelberg\, Sachsen Anhalt\, 39539\, Deutschland
ATTACH;FMTTYPE=image/jpeg:https://arthotel-kiebitzberg.de/wp-content/uploads/sites/3/2025/04/2026-04-25-Lennart-Schilgen-web.jpg
ORGANIZER;CN="ArtHotel Kiebitzberg%C2%AE":MAILTO:arthotel@kiebitzberg.de
END:VEVENT
END:VCALENDAR