BEGIN:VCALENDAR
VERSION:2.0
PRODID:-//ArtHotel Kiebitzberg® - ECPv6.15.20//NONSGML v1.0//EN
CALSCALE:GREGORIAN
METHOD:PUBLISH
X-ORIGINAL-URL:https://arthotel-kiebitzberg.de
X-WR-CALDESC:Veranstaltungen für ArtHotel Kiebitzberg®
REFRESH-INTERVAL;VALUE=DURATION:PT1H
X-Robots-Tag:noindex
X-PUBLISHED-TTL:PT1H
BEGIN:VTIMEZONE
TZID:Europe/Berlin
BEGIN:DAYLIGHT
TZOFFSETFROM:+0100
TZOFFSETTO:+0200
TZNAME:CEST
DTSTART:20250330T010000
END:DAYLIGHT
BEGIN:STANDARD
TZOFFSETFROM:+0200
TZOFFSETTO:+0100
TZNAME:CET
DTSTART:20251026T010000
END:STANDARD
BEGIN:DAYLIGHT
TZOFFSETFROM:+0100
TZOFFSETTO:+0200
TZNAME:CEST
DTSTART:20260329T010000
END:DAYLIGHT
BEGIN:STANDARD
TZOFFSETFROM:+0200
TZOFFSETTO:+0100
TZNAME:CET
DTSTART:20261025T010000
END:STANDARD
BEGIN:DAYLIGHT
TZOFFSETFROM:+0100
TZOFFSETTO:+0200
TZNAME:CEST
DTSTART:20270328T010000
END:DAYLIGHT
BEGIN:STANDARD
TZOFFSETFROM:+0200
TZOFFSETTO:+0100
TZNAME:CET
DTSTART:20271031T010000
END:STANDARD
END:VTIMEZONE
BEGIN:VEVENT
DTSTART;TZID=Europe/Berlin:20261003T190000
DTEND;TZID=Europe/Berlin:20261003T220000
DTSTAMP:20260422T040800
CREATED:20220709T131752Z
LAST-MODIFIED:20260127T151915Z
UID:3787-1791054000-1791064800@arthotel-kiebitzberg.de
SUMMARY:MUSICAL DINNER (Das Original) mit Glamour-Event
DESCRIPTION:Musical Dinner am 03.10.2026 um 19:00 Uhr – erleben Sie einen besonderen Abend voller Musik\, Emotionen und kulinarischer Genüsse. Wenn Sie Musicals lieben und einen ganzen Abend in bekannten Melodien schwelgen möchten\, dann ist unser MUSICAL DINNER genau das richtige Event für Sie. \nFreuen Sie sich auf die Höhepunkte aus den erfolgreichsten klassischen und modernen Musicals. Diese werden live gesungen und sorgen für echte Gänsehautmomente. \nEin original Hamburger Musical-Ensemble begeistert Sie dabei mit Leidenschaft\, Stimmgewalt und großer Nähe zum Publikum. \nMusical Dinner mit Live-Gesang und exzellenter Küche\nUnser Musical Dinner verbindet erstklassige Gastronomie mit einer hochwertigen Musical-Show. Dabei treffen kulinarische Genüsse auf mitreißenden Live-Gesang. \nProfessionelle Musical-Darsteller treten in originalgetreuen Kostümen auf. So wird der Glanz der großen Musicalbühnen für Sie direkt erlebbar. \nTermin: 03. Oktober 2026\nBeginn: 19:00 Uhr \nHier sind Sie „hautnah dabei“\nBei diesem Musical Dinner gibt es keine weit entfernte Bühne\, sondern die Künstler bewegen sich mitten im Raum. Dadurch sind Sie Teil des Geschehens und erleben jede Szene aus nächster Nähe. \nEmotionen\, Musik und Darsteller verschmelzen zu einem einzigartigen Erlebnis\, das Sie begeistern wird. \nHighlights aus den bekanntesten Musicals\nFreuen Sie sich unter anderem auf Highlights aus: \nKÖNIG DER LÖWEN · DAS PHANTOM DER OPER · HINTERM HORIZONT · AIDA · ELISABETH · MY FAIR LADY · GREASE · TANZ DER VAMPIRE · MAMMA MIA · CATS · WE WILL ROCK YOU · ALADDIN · DIE DREI MUSKETIERE · LES MISÉRABLES · DIE SCHÖNE UND DAS BIEST · u. v. m. \nDiese Musical-Dinner-Show bringt das Flair großer Bühnen in ein stilvolles Ambiente. Zudem erleben Sie stimmgewaltigen Live-Gesang in exklusiver Atmosphäre. \nEin Musical Dinner voller Emotionen\nBlicken Sie dem PHANTOM DER OPER direkt ins Gesicht und sehen Sie die Träne im Auge von ELISABETH glitzern. Außerdem spüren Sie den kalten Atem des VAMPIRS im Nacken. \nLassen Sie sich von den Rhythmen aus MAMMA MIA\, GREASE und BUDDY HOLLY mitreißen. Zudem erleben Sie Geschichten voller Sehnsucht\, Träume und Fernweh\, unter anderem mit bekannten UDO-JÜRGENS-Klassikern. \nBei uns gibt es keine weit entfernte Bühne\nSie sind mitten im Musical-Erlebnis und erleben jeden Moment hautnah. Genau das macht dieses Musical Dinner so besonders. \nOb als Geschenk\, als romantischer Abend oder als besonderes Event: Das Musical Dinner am 03.10.2026 um 19:00 Uhr ist ein Highlight für alle Musicalfans. \nHier geht es zu den Tickest!
URL:https://arthotel-kiebitzberg.de/event/musical-dinner-das-original/
LOCATION:ArtHotel Kiebitzberg®\, Schönberger Weg 6\, Havelberg\, Sachsen Anhalt\, 39539\, Deutschland
CATEGORIES:Krimidinner
ATTACH;FMTTYPE=image/jpeg:https://arthotel-kiebitzberg.de/wp-content/uploads/sites/3/2018/12/Musical-Dinner-1.jpg
ORGANIZER;CN="ArtHotel Kiebitzberg%C2%AE":MAILTO:arthotel@kiebitzberg.de
END:VEVENT
BEGIN:VEVENT
DTSTART;TZID=Europe/Berlin:20261017T180000
DTEND;TZID=Europe/Berlin:20261017T220000
DTSTAMP:20260422T040800
CREATED:20251216T132353Z
LAST-MODIFIED:20260127T151104Z
UID:1798945-1792260000-1792274400@arthotel-kiebitzberg.de
SUMMARY:Krimi-Dinner nach Art des Hauses - Der Tod trägt Petticoat
DESCRIPTION:Erleben Sie einen Dinner-Krimi in Havelberg nach artdeshauses und freuen Sie sich auf einen Abend voller Spannung\, Humor und Genuss.\nIm ArtHotel Kiebitzberg verbinden sich ein mehrgängiges Menü\, Live-Theater und Musik zu einem besonderen Erlebnis. \nKrimidinner mit Menü: So funktioniert der Abend\nBeim Dinner-Krimi genießen Sie ein leckeres Menü\, während sich Schritt für Schritt ein Mordfall entwickelt.\nZu Beginn erhält jeder Gast einen Umschlag mit Namensschild\, einer neuen Identität sowie Klatsch\, Tratsch und geheimen Hinweisen.\nSo können Sie miträtseln – oder einfach entspannt zuschauen\, denn beides ist möglich. \nDie Story: Havelberg in den turbulenten 1950er-Jahren\nDie Handlung spielt im Havelberg der 50er Jahre.\nIm ArtHotel feiert die Filmkomödie „Drei Mädel für Herrn Himmelreich“ ihre umjubelte Premiere.\nGlamouröse Stars\, aufgeregte Sternchen und sogar ein Regisseur aus Hollywood sind anwesend.\nDoch mitten im fröhlichen Trubel geschieht das Unfassbare: Mord! \nErmitteln mit Privatdetektiv Bernie Hammer\nGemeinsam mit Privatdetektiv Bernie Hammer suchen Sie nach Spuren.\nHinweise tauchen auf\, Verdächtige geraten ins Visier\, und die Gerüchteküche brodelt.\nDenn angeblich haben sich Spione aus Ost und West\, Trickbetrüger und Mafiosi unter das Publikum gemischt.\nAußerdem ist auch im Filmteam nicht alles eitel Sonnenschein. \nMusik\, Schlager und 50er-Jahre-Flair\nZwischen den Ermittlungen bleibt Zeit zum Genießen\, denn das Menü wird in mehreren Gängen serviert.\nFür musikalische Höhepunkte sorgt Dorothea Helmchen\, unvergessener Star zahlreicher Ufa-Revuefilme.\nMit frechen Schlagern und Chansons bringt sie echtes 50er-Jahre-Flair in den Abens. (Fotos von Vincent Chmiel) \n  \nHier geht es zu den Tickets! 
URL:https://arthotel-kiebitzberg.de/event/krimi-dinner-nach-art-des-hauses-der-tod-traegt-petticoat/
LOCATION:ArtHotel Kiebitzberg®\, Schönberger Weg 6\, Havelberg\, Sachsen Anhalt\, 39539\, Deutschland
CATEGORIES:Dinner-Show,Familie,Gastronomie,Krimidinner
ATTACH;FMTTYPE=image/jpeg:https://arthotel-kiebitzberg.de/wp-content/uploads/sites/3/2025/11/Foto-II.jpg
ORGANIZER;CN="ArtHotel Kiebitzberg%C2%AE":MAILTO:arthotel@kiebitzberg.de
END:VEVENT
END:VCALENDAR