BEGIN:VCALENDAR
VERSION:2.0
PRODID:-//ArtHotel Kiebitzberg® - ECPv6.15.20//NONSGML v1.0//EN
CALSCALE:GREGORIAN
METHOD:PUBLISH
X-ORIGINAL-URL:https://arthotel-kiebitzberg.de
X-WR-CALDESC:Veranstaltungen für ArtHotel Kiebitzberg®
REFRESH-INTERVAL;VALUE=DURATION:PT1H
X-Robots-Tag:noindex
X-PUBLISHED-TTL:PT1H
BEGIN:VTIMEZONE
TZID:Europe/Berlin
BEGIN:DAYLIGHT
TZOFFSETFROM:+0100
TZOFFSETTO:+0200
TZNAME:CEST
DTSTART:20250330T010000
END:DAYLIGHT
BEGIN:STANDARD
TZOFFSETFROM:+0200
TZOFFSETTO:+0100
TZNAME:CET
DTSTART:20251026T010000
END:STANDARD
BEGIN:DAYLIGHT
TZOFFSETFROM:+0100
TZOFFSETTO:+0200
TZNAME:CEST
DTSTART:20260329T010000
END:DAYLIGHT
BEGIN:STANDARD
TZOFFSETFROM:+0200
TZOFFSETTO:+0100
TZNAME:CET
DTSTART:20261025T010000
END:STANDARD
BEGIN:DAYLIGHT
TZOFFSETFROM:+0100
TZOFFSETTO:+0200
TZNAME:CEST
DTSTART:20270328T010000
END:DAYLIGHT
BEGIN:STANDARD
TZOFFSETFROM:+0200
TZOFFSETTO:+0100
TZNAME:CET
DTSTART:20271031T010000
END:STANDARD
END:VTIMEZONE
BEGIN:VEVENT
DTSTART;TZID=Europe/Berlin:20260920T180000
DTEND;TZID=Europe/Berlin:20260920T220000
DTSTAMP:20260422T022656
CREATED:20260123T151631Z
LAST-MODIFIED:20260127T153501Z
UID:1798924-1789927200-1789941600@arthotel-kiebitzberg.de
SUMMARY:Das Lichtblütenfestival der Altmark
DESCRIPTION:Das Altmärker Lichtblütenfestival \n  \nkommt zum zweiten Mal nach Havelberg! Am 20.09.2026 feiern wir im und rund um das ArtHotel Kiebitzberg ein ganz besonderes leuchtendes Fest. Ein Abend\, an dem Licht\, Farbe\, Musik und Kultur eine stimmungsvolle Einheit bilden. \nRund um das Gelände des ArtHotel Kiebitzberg erwartet die Gäste eine atmosphärische Illumination mit verschiedenen Showacts und künstlerischen Highlights. Das Lichtblütenfestival Havelberg lädt zum Flanieren\, Staunen und Genießen ein – mitten in der Altmark\, direkt an der Havel. \nLichtblütenfestival Havelberg mit dem Sago-Song-Salon um Sebastian Krämer und Matthias Binner\nEin Abend voller Licht\, Musik & Lebensfreude\nBeim Lichtblütenfestival Havelberg trifft kunstvolle Lichtinszenierung auf poetische und musikalische Inspiration. Die Besucherinnen und Besucher können sich auf einen Abend freuen\, der alle Sinne anspricht: leuchtende Installationen\, atmosphärische Showacts und den Sago-Song-Salon. \nOb als Ausflugsziel\, Kurzurlaub oder kultureller Abend: Das Lichtblütenfest Havelberg im ArtHotel Kiebitzberg bietet den perfekten Rahmen\, um den Herbst in der Altmark von seiner leuchtenden Seite zu erleben. \nWeitere Informationen zu unseren Veranstaltungen und zu Ihrem Aufenthalt im ArtHotel Kiebitzberg finden Sie auf unserer Website. \n \n \n<
URL:https://arthotel-kiebitzberg.de/event/lichtbluetenfest-havelberg-altmaerker-lichtbluetenfest-im-arthotel-kiebitzberg/
LOCATION:ArtHotel Kiebitzberg®\, Schönberger Weg 6\, Havelberg\, Sachsen Anhalt\, 39539\, Deutschland
CATEGORIES:Familie,Konzert
ATTACH;FMTTYPE=image/jpeg:https://arthotel-kiebitzberg.de/wp-content/uploads/sites/3/2024/08/Walkact-Bunt-scaled.jpg
ORGANIZER;CN="Ipse excitare e.V.":MAILTO:ipse.excitare@web.de
END:VEVENT
BEGIN:VEVENT
DTSTART;TZID=Europe/Berlin:20260920T190000
DTEND;TZID=Europe/Berlin:20260920T220000
DTSTAMP:20260422T022656
CREATED:20260123T151353Z
LAST-MODIFIED:20260123T151353Z
UID:1798923-1789930800-1789941600@arthotel-kiebitzberg.de
SUMMARY:Der SAGO SONG SALON - Echte Lieder\, echte Menschen!
DESCRIPTION:Der Sago Song Salon öffnet ein Fenster in eine Welt\, die seit Jahrzehnten Künstlerinnen und Künstler miteinander verbindet. Ein geheimnisumwobenes Netzwerk aus Poetinnen\, Liedermachern und musikalischen Geschichtenerzählern hat sich entwickelt – getragen von dem gemeinsamen Wunsch\, mit ihren Liedern nach dem Besonderen zu streben. \nIm Zentrum steht SAGO\, „ein Poetenseminar nach der Manier der alten Barockdichter“\, 1989 von Christof Stählin gegründet und mit dem „Esprit eines französischen Enzyklopädisten“ beschrieben (Süddeutsche Zeitung\, 31.10.2022). Hier werden Ideen nicht nur besprochen\, sondern in beinahe alchemistischen Prozessen gereinigt\, befeuert und verdichtet. Aus Einfällen entstehen Lieder\, aus Liederzeilen entstehen Gedankenwelten – lebendig\, intensiv und oft überraschend. \nDer Song Salon: Bühne für Worte\, Melodien & Begegnungen\nWas im SAGO-Kreis entsteht\, findet im Song Salon seine Bühne. Sebastian Krämer und Matthias Binner versammeln im Rahmen dieses besonderen Formats Dichterinnen\, Singer-Songwriter\, Freundinnen\, Weggefährten\, Entdeckungen und Geheimtipps. Die Mischung aus renommierten Stimmen und neuen Impulsen macht jeden Abend einzigartig. \nIm Song Salon werden Lieder gesungen\, Geschichten erzählt und Momente geteilt – mal sorgfältig vorbereitet\, mal vollkommen spontan. Die Bühne wird zu einem Raum der Begegnung\, des Zuhörens und des Miteinanders. Und alles geschieht für das wichtigste Element des Abends: das Publikum. Für wen denn sonst? \nWas den Song Salon so besonders macht\n\nAuthentische Künstler*innen: Singer-Songwriter\, Dichterinnen & Poeten aus dem SAGO-Netzwerk\nSpontane Momente: Geschichten\, Improvisationen & überraschende Ideen\nKünstlerischer Tiefgang: Lieder\, die berühren\, inspirieren und verbinden\nEin Abend für Musikliebhaber: live\, intim & voller Poesie\n\nDer Song Salon verbindet Worte und Melodien auf besondere Weise – ein Abend\, an dem Poesie lebendig wird und Musik neue Räume öffnet. \nBuchen Sie Ihre Karten gleich hier! 
URL:https://arthotel-kiebitzberg.de/event/der-sago-song-salon-echte-lieder-echte-menschen/
LOCATION:ArtHotel Kiebitzberg®\, Schönberger Weg 6\, Havelberg\, Sachsen-Anhalt\, 39539\, Deutschland
ATTACH;FMTTYPE=image/jpeg:https://arthotel-kiebitzberg.de/wp-content/uploads/sites/3/2025/08/2026-03-14-Sago-Song-Salon-I.jpg
ORGANIZER;CN="ArtHotel Kiebitzberg%C2%AE":MAILTO:arthotel@kiebitzberg.de
END:VEVENT
END:VCALENDAR