BEGIN:VCALENDAR
VERSION:2.0
PRODID:-//ArtHotel Kiebitzberg® - ECPv6.15.20//NONSGML v1.0//EN
CALSCALE:GREGORIAN
METHOD:PUBLISH
X-WR-CALNAME:ArtHotel Kiebitzberg®
X-ORIGINAL-URL:https://arthotel-kiebitzberg.de
X-WR-CALDESC:Veranstaltungen für ArtHotel Kiebitzberg®
REFRESH-INTERVAL;VALUE=DURATION:PT1H
X-Robots-Tag:noindex
X-PUBLISHED-TTL:PT1H
BEGIN:VTIMEZONE
TZID:Europe/Berlin
BEGIN:DAYLIGHT
TZOFFSETFROM:+0100
TZOFFSETTO:+0200
TZNAME:CEST
DTSTART:20250330T010000
END:DAYLIGHT
BEGIN:STANDARD
TZOFFSETFROM:+0200
TZOFFSETTO:+0100
TZNAME:CET
DTSTART:20251026T010000
END:STANDARD
BEGIN:DAYLIGHT
TZOFFSETFROM:+0100
TZOFFSETTO:+0200
TZNAME:CEST
DTSTART:20260329T010000
END:DAYLIGHT
BEGIN:STANDARD
TZOFFSETFROM:+0200
TZOFFSETTO:+0100
TZNAME:CET
DTSTART:20261025T010000
END:STANDARD
BEGIN:DAYLIGHT
TZOFFSETFROM:+0100
TZOFFSETTO:+0200
TZNAME:CEST
DTSTART:20270328T010000
END:DAYLIGHT
BEGIN:STANDARD
TZOFFSETFROM:+0200
TZOFFSETTO:+0100
TZNAME:CET
DTSTART:20271031T010000
END:STANDARD
END:VTIMEZONE
BEGIN:VEVENT
DTSTART;TZID=Europe/Berlin:20260314T190000
DTEND;TZID=Europe/Berlin:20260314T220000
DTSTAMP:20260421T201537
CREATED:20250819T142353Z
LAST-MODIFIED:20251011T120648Z
UID:1798747-1773514800-1773525600@arthotel-kiebitzberg.de
SUMMARY:Der SAGO SONG SALON - Echte Lieder\, echte Menschen!
DESCRIPTION:Ein geheimnisumwobenes Netzwerk verbindet seit Jahrzehnten Menschen\, die mit ihren Lieder nach dem Besonderen streben: SAGO\, „ein Poetenseminar nach der Manier der alten Barockdichter“\, 1989 von Christof Stählin mit „dem Esprit eines französischen Enzyklopädisten“ erdacht (SZ\, 31.10.2022)\, um mitgebrachte Einfälle in alchemischen Ritualen zu reinigen\, zu befeuern und zu verdichten.\nWas dort entsteht und gewachsen ist\, erblüht im Song Salon: Sebastian Krämer und Matthias Binner präsentieren Dichterinnen und Singer- Songwriter\, Freunde und Entdeckungen\, Stars und Geheimtipps; hier werden Lieder gesungen\, Geschichten ausgetauscht\, allein und miteinander\, spontan und vorbereitet – und: fürs Publikum. Für wen denn sonst? \nBuchen Sie Ihre Karten gleich hier! 
URL:https://arthotel-kiebitzberg.de/event/der-sago-song-salon-ein-gipfeltreffen-unter-freunden/
LOCATION:ArtHotel Kiebitzberg®\, Schönberger Weg 6\, Havelberg\, Sachsen-Anhalt\, 39539\, Deutschland
ATTACH;FMTTYPE=image/jpeg:https://arthotel-kiebitzberg.de/wp-content/uploads/sites/3/2025/08/2026-03-14-Sago-Song-Salon-I.jpg
ORGANIZER;CN="ArtHotel Kiebitzberg%C2%AE":MAILTO:arthotel@kiebitzberg.de
END:VEVENT
BEGIN:VEVENT
DTSTART;TZID=Europe/Berlin:20260328T190000
DTEND;TZID=Europe/Berlin:20260328T220000
DTSTAMP:20260421T201537
CREATED:20250607T130912Z
LAST-MODIFIED:20260206T162732Z
UID:1798661-1774724400-1774735200@arthotel-kiebitzberg.de
SUMMARY:Jazz-Night mit Esther Kaiser und Axel Fischbacher
DESCRIPTION:Es hat gute Gründe\, warum bei diesem Album die Namen aller Beteiligten gleichberechtigt gelistet sind. „Moving Times“ ist das Resultat echter  Teamarbeit – die erste Produktion einer frisch formierten Gruppe\, in der alle auf Augenhöhe agieren. Was schon deshalb nicht selbstverständlich ist\, weil mit Sängerin Esther Kaiser und Gitarrist Axel Fischbacher zwei\ngestandene Kapazitäten des deutschen Jazzgeschehens vertreten sind\, die seit vielen Jahren unabhängig voneinander eigene Bands leiten und die eine Vielzahl eigener Alben veröffentlicht haben. Die beiden gehören verschiedenen Generationen an – Bassistin Genevieve O’Driscoll und Drummer/Vibraphonist Michael Knippschild repräsentieren eine weitere. Das bedeutet: drei Generationen\, zwei Frauen und zwei Männer – und es passt\, als dürfte es gar nicht anders sein. (Alle Fotos by Claudia Fischbacher) \nBuchen Sie Ihre Karten gleich hier!
URL:https://arthotel-kiebitzberg.de/event/jazz-night-mit-esther-kaiser-und-axel-fischbacher/
LOCATION:ArtHotel Kiebitzberg®\, Schönberger Weg 6\, Havelberg\, Sachsen Anhalt\, 39539\, Deutschland
CATEGORIES:Jazz,Konzert
ATTACH;FMTTYPE=image/jpeg:https://arthotel-kiebitzberg.de/wp-content/uploads/sites/3/2025/06/Pressephoto_Moving-Times_Bandpic_Cut-e1749556762969.jpg
ORGANIZER;CN="ArtHotel Kiebitzberg%C2%AE":MAILTO:arthotel@kiebitzberg.de
END:VEVENT
END:VCALENDAR