BEGIN:VCALENDAR
VERSION:2.0
PRODID:-//ArtHotel Kiebitzberg® - ECPv6.15.20//NONSGML v1.0//EN
CALSCALE:GREGORIAN
METHOD:PUBLISH
X-ORIGINAL-URL:https://arthotel-kiebitzberg.de
X-WR-CALDESC:Veranstaltungen für ArtHotel Kiebitzberg®
REFRESH-INTERVAL;VALUE=DURATION:PT1H
X-Robots-Tag:noindex
X-PUBLISHED-TTL:PT1H
BEGIN:VTIMEZONE
TZID:Europe/Berlin
BEGIN:DAYLIGHT
TZOFFSETFROM:+0100
TZOFFSETTO:+0200
TZNAME:CEST
DTSTART:20240331T010000
END:DAYLIGHT
BEGIN:STANDARD
TZOFFSETFROM:+0200
TZOFFSETTO:+0100
TZNAME:CET
DTSTART:20241027T010000
END:STANDARD
BEGIN:DAYLIGHT
TZOFFSETFROM:+0100
TZOFFSETTO:+0200
TZNAME:CEST
DTSTART:20250330T010000
END:DAYLIGHT
BEGIN:STANDARD
TZOFFSETFROM:+0200
TZOFFSETTO:+0100
TZNAME:CET
DTSTART:20251026T010000
END:STANDARD
BEGIN:DAYLIGHT
TZOFFSETFROM:+0100
TZOFFSETTO:+0200
TZNAME:CEST
DTSTART:20260329T010000
END:DAYLIGHT
BEGIN:STANDARD
TZOFFSETFROM:+0200
TZOFFSETTO:+0100
TZNAME:CET
DTSTART:20261025T010000
END:STANDARD
END:VTIMEZONE
BEGIN:VEVENT
DTSTART;TZID=Europe/Berlin:20251212T190000
DTEND;TZID=Europe/Berlin:20251212T210000
DTSTAMP:20260422T021950
CREATED:20251104T154311Z
LAST-MODIFIED:20251107T122529Z
UID:1798874-1765566000-1765573200@arthotel-kiebitzberg.de
SUMMARY:Die Leipziger Pfeffermühle live in Havelberg!
DESCRIPTION:Ein Abend voller Witz\, Satire und Spielfreude:\nWenn die Leipziger Pfeffermühle in Havelberg gastiert\, heißt es: Harakiri to go!\nDer neueste Streich aus dem Gewürzkoffer des bekannten Kabaretts bringt Schärfe\, Humor und Gesellschaftskritik auf die Bühne. \nSatire mit Biss – Wir sitzen in Haft\, in Lachhaft\nDie Welt hält sich den Bauch vor Lachen\, und Deutschland macht mal wieder Spaß.\nDie Pfeffermühle ist Vorreiter auf dem satirischen Schlachtross\, denn der Staat geht voran\, aber der Bürger kommt nicht mehr mit.\nJeder hat eine Meinung\, doch kaum jemand hat Ahnung. \nWir lassen uns vieles einfallen\, und manchmal fallen auch Brücken.\nFrüher wurde die Bahn geschätzt\, aber heute schätzt man nur noch die Fahrzeiten.\nE-Mail\, E-Auto\, E-Goisten – alles elektrisch\, doch selten erleuchtet. \nHarakiri to go – Satire trifft Zeitgeist\nWir machen weiter\, als ob es kein Morgen gäbe.\nDenn noch ist nicht aller Tage Abend\, und Lachen bleibt erlaubt.\nDer Bürger versüßt sich sein Leben mit Pustekuchen\, während die Regierung ratlos und das Volk lustlos ist. \nDie Demokratie macht sich vom Acker\, und der Bauer macht sich auf die Socken.\nDie Boomer treten in den Schatten\, während die Jugend keinen blassen Schimmer hat.\nDoch wir alle warten auf das Wirtschaftswunder und erleben unser blaues. \nKabarett mit Haltung und Humor\nMancher fühlt sich fremd im eigenen Land\, aber andere benehmen sich\, als wären sie zu Hause.\nDer Kanzler schüttelt Hände\, und das Volk schüttelt den Kopf.\nNicht mit uns – aber mit wem dann? \nWitzlos? Ganz im Gegenteil!\nDie Leipziger Pfeffermühle hustet dem Zeitgeist was\, denn Husten ist nur das Lachen\, das uns im Halse stecken bleibt. \nScherztropfen gegen Kopfweh – Kichern für den Frieden\nHARAKIRI TO GO ist ein Programm\, das die Krise in eine komische Krise verwandelt.\nScharfsinnig\, temporeich\, musikalisch und unverblümt bringt das Ensemble die Themen unserer Zeit auf die Bühne. \nSpielfreude\, Musikalität\, Grips und Witz – jung\, frech und ehrlich.\nLachen Sie sich mal aus\, denn Humor ist das beste Gegengift.\nWir freuen uns auf Ihren Besuch im ArtHotel Kiebitzberg Havelberg. \nBuchen Sie Ihr Ticket gern hier!
URL:https://arthotel-kiebitzberg.de/event/harakiri-to-go-die-leipziger-pfeffermuehle-live-in-havelberg/
LOCATION:ArtHotel Kiebitzberg®\, Schönberger Weg 6\, Havelberg\, Sachsen Anhalt\, 39539\, Deutschland
ATTACH;FMTTYPE=image/jpeg:https://arthotel-kiebitzberg.de/wp-content/uploads/sites/3/2025/11/Foto_Presse-Harakiri-Ben-scaled.jpg
ORGANIZER;CN="ArtHotel Kiebitzberg%C2%AE":MAILTO:arthotel@kiebitzberg.de
END:VEVENT
END:VCALENDAR