BEGIN:VCALENDAR
VERSION:2.0
PRODID:-//ArtHotel Kiebitzberg® - ECPv6.15.20//NONSGML v1.0//EN
CALSCALE:GREGORIAN
METHOD:PUBLISH
X-ORIGINAL-URL:https://arthotel-kiebitzberg.de
X-WR-CALDESC:Veranstaltungen für ArtHotel Kiebitzberg®
REFRESH-INTERVAL;VALUE=DURATION:PT1H
X-Robots-Tag:noindex
X-PUBLISHED-TTL:PT1H
BEGIN:VTIMEZONE
TZID:Europe/Berlin
BEGIN:DAYLIGHT
TZOFFSETFROM:+0100
TZOFFSETTO:+0200
TZNAME:CEST
DTSTART:20240331T010000
END:DAYLIGHT
BEGIN:STANDARD
TZOFFSETFROM:+0200
TZOFFSETTO:+0100
TZNAME:CET
DTSTART:20241027T010000
END:STANDARD
BEGIN:DAYLIGHT
TZOFFSETFROM:+0100
TZOFFSETTO:+0200
TZNAME:CEST
DTSTART:20250330T010000
END:DAYLIGHT
BEGIN:STANDARD
TZOFFSETFROM:+0200
TZOFFSETTO:+0100
TZNAME:CET
DTSTART:20251026T010000
END:STANDARD
BEGIN:DAYLIGHT
TZOFFSETFROM:+0100
TZOFFSETTO:+0200
TZNAME:CEST
DTSTART:20260329T010000
END:DAYLIGHT
BEGIN:STANDARD
TZOFFSETFROM:+0200
TZOFFSETTO:+0100
TZNAME:CET
DTSTART:20261025T010000
END:STANDARD
END:VTIMEZONE
BEGIN:VEVENT
DTSTART;TZID=Europe/Berlin:20251025T190000
DTEND;TZID=Europe/Berlin:20251027T170000
DTSTAMP:20260422T040737
CREATED:20250309T150728Z
LAST-MODIFIED:20251008T194001Z
UID:1798619-1761418800-1761584400@arthotel-kiebitzberg.de
SUMMARY:Julia Trintschuk Gitarre PLUS
DESCRIPTION:Gitarre PLUS heißt es\, wenn Julia Trintschuk\, international gefeierte Gitarren-Virtuosin\, zu ihrem ersten Festival einlädt.\n3 Tage mit gemeinsamen Musizieren und Lernen. Großes Abschlußkonzert. Freuen Sie sich auf Valerie Eickhoff I Mezzosopran\, Marco Tamayo I \, Joaquin Clerch I \, und Ulf Dirk Mädler I Bariton. Geplant ist folgender Ablauf: \nSamstag 19.00 Uhr Concert NEXT GENERATION Teil I ausgewählte Musikstudenten und junge Profimusiker Teil II Julia Trintschuk I Gitarre und Valerie Eickhoff I Mezzosopran \nSonntag 15.00 Uhr Teil I Concert NEXT GENERATION  Teil II „Platero und ich – Erzählung mit Gitarre Marco Tamayo I Gitarre und Ulf Dirk Mädler I Erzähler Teil III Kubanische Gitarrenvirtuosen – Joaquin Clerch und Marco Tamayo I Gitarren \nunterschiedliche Ticketpreise für Teilnehmer\, Schüler usw. buchbar über reservix oder 039387-595151 \nBuchen Sie gleich hier!
URL:https://arthotel-kiebitzberg.de/event/julia-trintschuk-gitarre-plus/
LOCATION:ArtHotel Kiebitzberg®\, Schönberger Weg 6\, Havelberg\, Sachsen Anhalt\, 39539\, Deutschland
CATEGORIES:Feiertage,Konzert,Kunstquartier
ATTACH;FMTTYPE=image/jpeg:https://arthotel-kiebitzberg.de/wp-content/uploads/sites/3/2025/07/2025-08-22-Gitarre-Plus-fuer-web-scaled.jpg
ORGANIZER;CN="ArtHotel Kiebitzberg%C2%AE":MAILTO:arthotel@kiebitzberg.de
END:VEVENT
END:VCALENDAR