BEGIN:VCALENDAR
VERSION:2.0
PRODID:-//ArtHotel Kiebitzberg® - ECPv6.15.20//NONSGML v1.0//EN
CALSCALE:GREGORIAN
METHOD:PUBLISH
X-WR-CALNAME:ArtHotel Kiebitzberg®
X-ORIGINAL-URL:https://arthotel-kiebitzberg.de
X-WR-CALDESC:Veranstaltungen für ArtHotel Kiebitzberg®
REFRESH-INTERVAL;VALUE=DURATION:PT1H
X-Robots-Tag:noindex
X-PUBLISHED-TTL:PT1H
BEGIN:VTIMEZONE
TZID:Europe/Berlin
BEGIN:DAYLIGHT
TZOFFSETFROM:+0100
TZOFFSETTO:+0200
TZNAME:CEST
DTSTART:20240331T010000
END:DAYLIGHT
BEGIN:STANDARD
TZOFFSETFROM:+0200
TZOFFSETTO:+0100
TZNAME:CET
DTSTART:20241027T010000
END:STANDARD
BEGIN:DAYLIGHT
TZOFFSETFROM:+0100
TZOFFSETTO:+0200
TZNAME:CEST
DTSTART:20250330T010000
END:DAYLIGHT
BEGIN:STANDARD
TZOFFSETFROM:+0200
TZOFFSETTO:+0100
TZNAME:CET
DTSTART:20251026T010000
END:STANDARD
BEGIN:DAYLIGHT
TZOFFSETFROM:+0100
TZOFFSETTO:+0200
TZNAME:CEST
DTSTART:20260329T010000
END:DAYLIGHT
BEGIN:STANDARD
TZOFFSETFROM:+0200
TZOFFSETTO:+0100
TZNAME:CET
DTSTART:20261025T010000
END:STANDARD
END:VTIMEZONE
BEGIN:VEVENT
DTSTART;TZID=Europe/Berlin:20250926T150000
DTEND;TZID=Europe/Berlin:20250928T150000
DTSTAMP:20260422T071524
CREATED:20250309T145007Z
LAST-MODIFIED:20250309T145007Z
UID:1798614-1758898800-1759071600@arthotel-kiebitzberg.de
SUMMARY:Gospelworkshop mit Frank Wedel
DESCRIPTION:Gospelworkshop mit Frank Wedel in Havelberg  \nFrank Wedel singt mit seinen Teilnehmer/innen an drei Tagen moderne\, berührende und mitreißende Gospels in der Wasserstadt Havelberg. \nNeben gesundem Essen und einer inspirierenden Umgebung am Fluss kann man bei Gospelworkshops mit Frank ganz bei sich selbst ankommen und wird dabei ein wichtiger klingender Teil einer Gruppenerfahrung aus lauter Rhythmus und Harmonie. Weil Gospelmusik eine große Hoffnung ausstrahlt\, geht man aus einem solchen Workshop beseelt und gestärkt wieder zurück auf seine individuelle Lebensreise – nur eben jetzt mit ein paar himmlischen Ohrwürmern. \nMusikalische Vorraussetzungen werden nicht erwartet. \nUnterbringung & Verpflegung: Ideal ist natürlich eine Hotelbuchung direkt im ArtHotel. Dazu gibt’s ein limitiertes\, extra auf den Workshop zugeschnittenes „Special“ an diesem Wochenende\, das hier buchbar ist. \nAlle Informationen zum Gospelworkschop finden Sie hier. \n 
URL:https://arthotel-kiebitzberg.de/event/gospelworkshop-mit-frank-wedel-2/
LOCATION:ArtHotel Kiebitzberg®\, Schönberger Weg 6\, Havelberg\, Sachsen Anhalt\, 39539\, Deutschland
CATEGORIES:Brunch,Konzert,Kunstquartier,Liedermacher
ATTACH;FMTTYPE=image/jpeg:https://arthotel-kiebitzberg.de/wp-content/uploads/sites/3/2023/09/Frank-Wedel.jpg
ORGANIZER;CN="ArtHotel Kiebitzberg%C2%AE":MAILTO:arthotel@kiebitzberg.de
END:VEVENT
BEGIN:VEVENT
DTSTART;TZID=Europe/Berlin:20250928T100000
DTEND;TZID=Europe/Berlin:20250928T140000
DTSTAMP:20260422T071524
CREATED:20250824T072309Z
LAST-MODIFIED:20250824T072408Z
UID:1798759-1759053600-1759068000@arthotel-kiebitzberg.de
SUMMARY:Sonntagsbrunch mit Live Musik
DESCRIPTION:Lassen Sie sich verwöhnen!Genießen Sie viele saisonale Spezialitäten an unserem reichhaltigen Brunch-Buffet – dieses Mal begleitet von stimmungsvoller Live-Musik unseres Gospelchors. \nFreuen Sie sich auf vielfältige Fleisch- und Fischvariationen\, Suppen\, Käse\, frische Frühstückskomponenten\, hausgemachte Kuchen und verführerische Desserts – ein Fest für Genießer! \nBrunch-Zeit: 10:00 – 14:00 UhrPreis pro Person: 42\,50 EuroKinder bis 9 Jahre: 1 Euro pro LebensjahrKinder von 10–15 Jahren: 18 Euro \nWir empfehlen eine rechtzeitige Tischreservierung.
URL:https://arthotel-kiebitzberg.de/event/sonntagsbrunch-mit-live-musik/
LOCATION:Sachsen Anhalt
CATEGORIES:Brunch,Gastronomie
ATTACH;FMTTYPE=image/jpeg:https://arthotel-kiebitzberg.de/wp-content/uploads/sites/3/2016/12/4_web-scaled.jpg
END:VEVENT
END:VCALENDAR