BEGIN:VCALENDAR
VERSION:2.0
PRODID:-//ArtHotel Kiebitzberg® - ECPv6.15.20//NONSGML v1.0//EN
CALSCALE:GREGORIAN
METHOD:PUBLISH
X-WR-CALNAME:ArtHotel Kiebitzberg®
X-ORIGINAL-URL:https://arthotel-kiebitzberg.de
X-WR-CALDESC:Veranstaltungen für ArtHotel Kiebitzberg®
REFRESH-INTERVAL;VALUE=DURATION:PT1H
X-Robots-Tag:noindex
X-PUBLISHED-TTL:PT1H
BEGIN:VTIMEZONE
TZID:Europe/Berlin
BEGIN:DAYLIGHT
TZOFFSETFROM:+0100
TZOFFSETTO:+0200
TZNAME:CEST
DTSTART:20240331T010000
END:DAYLIGHT
BEGIN:STANDARD
TZOFFSETFROM:+0200
TZOFFSETTO:+0100
TZNAME:CET
DTSTART:20241027T010000
END:STANDARD
BEGIN:DAYLIGHT
TZOFFSETFROM:+0100
TZOFFSETTO:+0200
TZNAME:CEST
DTSTART:20250330T010000
END:DAYLIGHT
BEGIN:STANDARD
TZOFFSETFROM:+0200
TZOFFSETTO:+0100
TZNAME:CET
DTSTART:20251026T010000
END:STANDARD
BEGIN:DAYLIGHT
TZOFFSETFROM:+0100
TZOFFSETTO:+0200
TZNAME:CEST
DTSTART:20260329T010000
END:DAYLIGHT
BEGIN:STANDARD
TZOFFSETFROM:+0200
TZOFFSETTO:+0100
TZNAME:CET
DTSTART:20261025T010000
END:STANDARD
END:VTIMEZONE
BEGIN:VEVENT
DTSTART;TZID=Europe/Berlin:20250328T100000
DTEND;TZID=Europe/Berlin:20250906T180000
DTSTAMP:20260422T124720
CREATED:20250129T102254Z
LAST-MODIFIED:20250402T134408Z
UID:1798550-1743156000-1757181600@arthotel-kiebitzberg.de
SUMMARY:Ausstellung "Vergänglich" Hans Sparschuh I Fotografische Arbeiten und Karla Gänsler I Skulptur
DESCRIPTION:Seine Motive findet Hans Sparschuh an Plakat- und Häuserwänden oder Lost Places in Form verblasster Graffitis\, Lichtspiegelungen oder zerrütteter Reste – der Veränderung unterworfen\, der Vergänglichkeit anheimgegeben. Der Fotograf hält den einen Moment fest. Für diesen Augenblick nur ist das Motiv da und im nächsten Moment wird es verändert\, wird überklebt\, überstrichen\, heruntergerissen oder zerstört. Kälte\, Wind\, Sonne und Regen verändern die Farben und Formen der Motive. Immer neue Schichten kommen zum Vorschein\, fast so wie bei der Technik der Abreibung. Übrig bleiben oft nur Fragmente\, unbeabsichtigte Collagen\, die mit der ursprünglichen Historie oder Botschaft nichts mehr zu tun haben. Unweigerlich ist etwas eigenständig Neues da\, was Aufmerksamkeiten auf sich zieht\, der Betrachtung lohnt. Hans Sparschuh ist Filmemacher\, Fotograf\, Dokumentarist und Autor. Seine Filmliste umfasst mehr als 50 Filme zur deutsch – deutschen Geschichte\, zu kulturellen Entwicklungen und politischen Auseinandersetzungen in Vergangenheit und Gegenwart. Zu Karla Gänsler schreibt Dr. Kerstin Mey Duncan of Jordanstone College of Art and Design\, University of Dundee In einem breiten Spektrum visueller Medien arbeitend\, richtet Karla Gänßler ihre Aufmerksamkeit stets auf die menschliche Figur im Spannungsfeld zwischen Form und Abstraktion. Ihre ästhetische Strategie basiert auf der Nutzung der Eigenheiten der verschiedenen eingesetzten Materialien\, insbesondere der Farbe und Farbstruktur des Steins\, des formbestimmenden Flusses und der Farbnuancen geschmolzenen Metalls\, der Maserungen und des Wuchses von Holz und der unterschiedlichen Strukturen handgeschöpfter Papiere.
URL:https://arthotel-kiebitzberg.de/event/vernissage-vergaenglich-fotografische-arbeiten-hans-sparschuh/
LOCATION:ArtHotel Kiebitzberg®\, Schönberger Weg 6\, Havelberg\, Sachsen Anhalt\, 39539\, Deutschland
CATEGORIES:aktuelle Ausstellung,Kunstquartier,Vernissage
ATTACH;FMTTYPE=image/jpeg:https://arthotel-kiebitzberg.de/wp-content/uploads/sites/3/2025/01/Sparschuh-Spiegelung-Hanoi-scaled.jpg
ORGANIZER;CN="ArtHotel Kiebitzberg%C2%AE":MAILTO:arthotel@kiebitzberg.de
END:VEVENT
BEGIN:VEVENT
DTSTART;TZID=Europe/Berlin:20250621T173000
DTEND;TZID=Europe/Berlin:20250621T220000
DTSTAMP:20260422T124720
CREATED:20241008T181841Z
LAST-MODIFIED:20250423T174952Z
UID:1798453-1750527000-1750543200@arthotel-kiebitzberg.de
SUMMARY:Dinner in weiss mit französischem Flair
DESCRIPTION:Viva la Chanson! Dinner in Weiß \nEs ist uns eine Freude\, Sie zu einem unvergesslichen Abend einzuladen\, der den Charme der französischen Sommerküche zelebriert und musikalisch von den talentierten Künstlern Marie\, Jean-Claude und Christiane Seferian umrahmt wird. \nTauchen Sie ein in die Welt des „joie de vivre“ und lassen Sie sich am 21.06.25 ab 18:00 Uhr im ArtHotel Kiebitzberg von den Klängen und Aromen Frankreichs verzaubern. \nUnter dem Titel „Viva la Chanson!“ erwartet Sie ein Abend voller Eleganz\, Genuss und Lebensfreude. \nDatum: 21.06.25\nBeginn: 18:00 Uhr\nOrt: ArtHotel Kiebitzberg \nGenießen Sie ein exquisites 3-Gang-Menü\, das von unserer talentierten Küchencrew mit Liebe zum Detail kreiert wird\, während Sie von den bezaubernden Melodien der Chansons begleitet werden. \nBitte erscheinen Sie ganz in Weiß\, um das harmonische Bild dieses besonderen Abends zu vervollständigen\, \nAnmeldung unter 039387 595151\, arthotel@kiebitzberg.de oder buchen Sie die Karten direkt hier! \nWir freuen uns darauf\, mit Ihnen gemeinsam einen Abend voller Lebensfreude\, Genuss und guter Gesellschaft zu verbringen. \n 
URL:https://arthotel-kiebitzberg.de/event/dinner-in-weiss-mit-franzoesischem-flair-2/
LOCATION:ArtHotel Kiebitzberg®\, Schönberger Weg 6\, Havelberg\, Sachsen Anhalt\, 39539\, Deutschland
ATTACH;FMTTYPE=image/jpeg:https://arthotel-kiebitzberg.de/wp-content/uploads/sites/3/2024/10/PL_180929_7986-scaled-1.jpg
ORGANIZER;CN="ArtHotel Kiebitzberg%C2%AE":MAILTO:arthotel@kiebitzberg.de
END:VEVENT
END:VCALENDAR