BEGIN:VCALENDAR
VERSION:2.0
PRODID:-//ArtHotel Kiebitzberg® - ECPv6.15.20//NONSGML v1.0//EN
CALSCALE:GREGORIAN
METHOD:PUBLISH
X-WR-CALNAME:ArtHotel Kiebitzberg®
X-ORIGINAL-URL:https://arthotel-kiebitzberg.de/es
X-WR-CALDESC:Eventos para ArtHotel Kiebitzberg®
REFRESH-INTERVAL;VALUE=DURATION:PT1H
X-Robots-Tag:noindex
X-PUBLISHED-TTL:PT1H
BEGIN:VTIMEZONE
TZID:Europe/Berlin
BEGIN:DAYLIGHT
TZOFFSETFROM:+0100
TZOFFSETTO:+0200
TZNAME:CEST
DTSTART:20250330T010000
END:DAYLIGHT
BEGIN:STANDARD
TZOFFSETFROM:+0200
TZOFFSETTO:+0100
TZNAME:CET
DTSTART:20251026T010000
END:STANDARD
BEGIN:DAYLIGHT
TZOFFSETFROM:+0100
TZOFFSETTO:+0200
TZNAME:CEST
DTSTART:20260329T010000
END:DAYLIGHT
BEGIN:STANDARD
TZOFFSETFROM:+0200
TZOFFSETTO:+0100
TZNAME:CET
DTSTART:20261025T010000
END:STANDARD
BEGIN:DAYLIGHT
TZOFFSETFROM:+0100
TZOFFSETTO:+0200
TZNAME:CEST
DTSTART:20270328T010000
END:DAYLIGHT
BEGIN:STANDARD
TZOFFSETFROM:+0200
TZOFFSETTO:+0100
TZNAME:CET
DTSTART:20271031T010000
END:STANDARD
END:VTIMEZONE
BEGIN:VEVENT
DTSTART;TZID=Europe/Berlin:20260717T170000
DTEND;TZID=Europe/Berlin:20260717T200000
DTSTAMP:20260422T023136
CREATED:20260313T100010Z
LAST-MODIFIED:20260313T113636Z
UID:1799075-1784307600-1784318400@arthotel-kiebitzberg.de
SUMMARY:🔥 Wagyu & Fire – Exklusives Steak Tasting
DESCRIPTION:600 g Wagyu vom Grill\, BBQ-Wissen vom Profi und ein Sommerabend voller Genuss auf unserer Sonnenterrasse. \n \nEin Sommerabend für echte Genießer: Freuen Sie sich auf ein außergewöhnliches Wagyu Steak Tasting unter freiem Himmel auf der Sonnenterrasse des Arthotel Kiebitzberg®. \nGemeinsam mit Grillmeister Waldemar Zdero von Chopstick BBQ erleben Sie einen Abend voller Feuer\, Geschmack und echter Grillkunst. \n \nIm Mittelpunkt steht das hochwertige Fleisch von Havel Wagyu – bekannt für seine außergewöhnliche Marmorierung\, Zartheit und intensiven Geschmack. Während die Steaks frisch auf dem Grill zubereitet werden\, gibt Grillmeister Waldemar Zdero spannende Einblicke in seine Techniken und verrät wertvolle Tipps für das perfekte Steak. \nFreuen Sie sich auf verschiedene Wagyu-Cuts direkt vom Grill – saftig\, aromatisch und auf den Punkt gegart. \n \n🥩 Das Highlight des Abends: Jeder Gast genießt 600 Gramm feinste Wagyu-Steaks\, frisch vom Grill serviert. \nEin kulinarisches Erlebnis für Steakliebhaber\, Grillfans und echte BBQ-Enthusiasten\, die außergewöhnliche Qualität und authentische Grillkunst schätzen. \n \n📅 Wann & Wo?\n\nDatum: Freitag\, 17. Juli 2026\nBeginn: 17:00 Uhr\nOrt: Sonnenterrasse im Arthotel Kiebitzberg®\nPreis: 125\,00 € pro Person\n\n \n📌 Reservierung\nDie Plätze sind begrenzt – sichern Sie sich frühzeitig Ihren Platz: \n📞 Telefon: 039387 / 595151\n📧 E-Mail: arthotel@kiebitzberg.de \n \nJetzt Platz sichern
URL:https://arthotel-kiebitzberg.de/es/event/wagyu-fire-exklusives-steak-tasting/
LOCATION:Sachsen Anhalt
CATEGORIES:Gastronomie
ATTACH;FMTTYPE=image/jpeg:https://arthotel-kiebitzberg.de/wp-content/uploads/sites/3/2026/03/logo_havel_wagyu_markenanmeldung13783-2-e1773401246371.jpg
END:VEVENT
END:VCALENDAR