BEGIN:VCALENDAR
VERSION:2.0
PRODID:-//ArtHotel Kiebitzberg® - ECPv6.15.20//NONSGML v1.0//EN
CALSCALE:GREGORIAN
METHOD:PUBLISH
X-WR-CALNAME:ArtHotel Kiebitzberg®
X-ORIGINAL-URL:https://arthotel-kiebitzberg.de/es
X-WR-CALDESC:Eventos para ArtHotel Kiebitzberg®
REFRESH-INTERVAL;VALUE=DURATION:PT1H
X-Robots-Tag:noindex
X-PUBLISHED-TTL:PT1H
BEGIN:VTIMEZONE
TZID:Europe/Berlin
BEGIN:DAYLIGHT
TZOFFSETFROM:+0100
TZOFFSETTO:+0200
TZNAME:CEST
DTSTART:20250330T010000
END:DAYLIGHT
BEGIN:STANDARD
TZOFFSETFROM:+0200
TZOFFSETTO:+0100
TZNAME:CET
DTSTART:20251026T010000
END:STANDARD
BEGIN:DAYLIGHT
TZOFFSETFROM:+0100
TZOFFSETTO:+0200
TZNAME:CEST
DTSTART:20260329T010000
END:DAYLIGHT
BEGIN:STANDARD
TZOFFSETFROM:+0200
TZOFFSETTO:+0100
TZNAME:CET
DTSTART:20261025T010000
END:STANDARD
BEGIN:DAYLIGHT
TZOFFSETFROM:+0100
TZOFFSETTO:+0200
TZNAME:CEST
DTSTART:20270328T010000
END:DAYLIGHT
BEGIN:STANDARD
TZOFFSETFROM:+0200
TZOFFSETTO:+0100
TZNAME:CET
DTSTART:20271031T010000
END:STANDARD
END:VTIMEZONE
BEGIN:VEVENT
DTSTART;TZID=Europe/Berlin:20260228T150000
DTEND;TZID=Europe/Berlin:20260228T170000
DTSTAMP:20260421T233438
CREATED:20260122T150249Z
LAST-MODIFIED:20260127T151326Z
UID:1799008-1772290800-1772298000@arthotel-kiebitzberg.de
SUMMARY:POESIK Ein Nachmittag voll Licht!
DESCRIPTION:Die Gedichte von Lene Karl atmen tiefes Gefühl und Sehnsucht\, verbunden mit humorvoller Alltäglichkeit. Das Duo Colkat besteht aus Colin Dorn und Katrin Dreyer. Ihre unterschiedlichen Stimmen\, getragen von Gitarre und Bassbegleitung\, formen einen einzigartigen Folk Rock Klang. Ein Nachmittag voll Licht. \nHier geht es zu den Tickets! 
URL:https://arthotel-kiebitzberg.de/es/event/poesik-ein-nachmittag-voll-licht/
LOCATION:ArtHotel Kiebitzberg®\, Schönberger Weg 6\, Havelberg\, Sachsen-Anhalt\, 39539\, Deutschland
CATEGORIES:Lesung
ATTACH;FMTTYPE=image/jpeg:https://arthotel-kiebitzberg.de/wp-content/uploads/sites/3/2026/01/2026-03-28-Schenk-fuer-web.jpg
ORGANIZER;CN="ArtHotel Kiebitzberg%C2%AE":MAILTO:arthotel@kiebitzberg.de
END:VEVENT
END:VCALENDAR