BEGIN:VCALENDAR
VERSION:2.0
PRODID:-//ArtHotel Kiebitzberg® - ECPv6.15.20//NONSGML v1.0//EN
CALSCALE:GREGORIAN
METHOD:PUBLISH
X-ORIGINAL-URL:https://arthotel-kiebitzberg.de/en
X-WR-CALDESC:Events for ArtHotel Kiebitzberg®
REFRESH-INTERVAL;VALUE=DURATION:PT1H
X-Robots-Tag:noindex
X-PUBLISHED-TTL:PT1H
BEGIN:VTIMEZONE
TZID:Europe/Berlin
BEGIN:DAYLIGHT
TZOFFSETFROM:+0100
TZOFFSETTO:+0200
TZNAME:CEST
DTSTART:20250330T010000
END:DAYLIGHT
BEGIN:STANDARD
TZOFFSETFROM:+0200
TZOFFSETTO:+0100
TZNAME:CET
DTSTART:20251026T010000
END:STANDARD
BEGIN:DAYLIGHT
TZOFFSETFROM:+0100
TZOFFSETTO:+0200
TZNAME:CEST
DTSTART:20260329T010000
END:DAYLIGHT
BEGIN:STANDARD
TZOFFSETFROM:+0200
TZOFFSETTO:+0100
TZNAME:CET
DTSTART:20261025T010000
END:STANDARD
BEGIN:DAYLIGHT
TZOFFSETFROM:+0100
TZOFFSETTO:+0200
TZNAME:CEST
DTSTART:20270328T010000
END:DAYLIGHT
BEGIN:STANDARD
TZOFFSETFROM:+0200
TZOFFSETTO:+0100
TZNAME:CET
DTSTART:20271031T010000
END:STANDARD
END:VTIMEZONE
BEGIN:VEVENT
DTSTART;TZID=Europe/Berlin:20260620T150000
DTEND;TZID=Europe/Berlin:20260620T170000
DTSTAMP:20260422T005454
CREATED:20260407T103830Z
LAST-MODIFIED:20260407T103830Z
UID:1799123-1781967600-1781974800@arthotel-kiebitzberg.de
SUMMARY:Vernissage im KunstQuartier Der Künstler Michael Fischer-Art
DESCRIPTION:News Arts: Wie man es von einem Künstler wie Michael Fischer-Art erwartet\, lässt sich nicht alles\, was er anpackt in Kategorien unterteilen. Wo die Inspirationen einen packt\, passiert Kunst auch mal auf außergewöhnliche Weise. Portraits: Ein etwas anderer Stil\, aber nicht weniger bunt: Schon viele Berühmtheiten wurden von Michael Fischer-Art in Pop-Art Manier dargestellt. Dazu pflegt der Künstler Fischer-Art guten Kontakt zu Vertretern aus Politik\, Wirtschaft und Showbusiness. Fassaden: Kaum ein Künstler hat weltweit so viel Fläche bemalt wie er“ (Zeit\, 2011). Doch auf Flächen alleine lassen sich die Kunst am Bau-Projekte von Michael Fischer-Art nicht beschränken. Auch Brücken\, Spielplätze und vieles mehr werden von dem Künstler in Farbe getaucht.
URL:https://arthotel-kiebitzberg.de/en/event/vernissage-im-kunstquartier-der-kuenstler-michael-fischer-art/
LOCATION:ArtHotel Kiebitzberg®\, Schönberger Weg 6\, Havelberg\, Sachsen Anhalt\, 39539\, Deutschland
ATTACH;FMTTYPE=image/jpeg:https://arthotel-kiebitzberg.de/wp-content/uploads/sites/3/2026/04/2026-06-20-Plakat-Fischer-Art.jpg
ORGANIZER;CN="ArtHotel Kiebitzberg%C2%AE":MAILTO:arthotel@kiebitzberg.de
END:VEVENT
BEGIN:VEVENT
DTSTART;TZID=Europe/Berlin:20260620T180000
DTEND;TZID=Europe/Berlin:20260620T200000
DTSTAMP:20260422T005454
CREATED:20260319T150259Z
LAST-MODIFIED:20260319T150259Z
UID:1799100-1781978400-1781985600@arthotel-kiebitzberg.de
SUMMARY:Dinner in Weiß im ArtHotel Kiebitzberg
DESCRIPTION:Dinner in Weiß\n(bei schönem Wetter im Hotelpark) \nGenießen Sie ein 3-Gang-Menü aus unserer kreativen Sommerküche – leicht\, sommerlich und liebevoll zubereitet. \nDas Dinner in Weiß verbindet kulinarischen Genuss mit einem stilvollen Ambiente. \nDatum & Uhrzeit: 20.06.2026\, Beginn des Menüs: 18:00 UhrOrt: ArtHotel Kiebitzberg\, Havelberg \nAnmeldung & Kontakt\nEine vorherige Anmeldung ist erforderlich:📞 Telefon: 039387 595151✉️ E-Mail: arthotel@kiebitzberg.de \nWeitere Informationen zu unseren Veranstaltungen und unserem Restaurant finden Sie auf unserer Website.
URL:https://arthotel-kiebitzberg.de/en/event/dinner-in-weiss-im-arthotel-kiebitzberg-2/
LOCATION:Sachsen Anhalt
CATEGORIES:Gastronomie
ATTACH;FMTTYPE=image/png:https://arthotel-kiebitzberg.de/wp-content/uploads/sites/3/2025/11/ChatGPT-Image-14.-Nov.-2025-15_08_25.png
END:VEVENT
BEGIN:VEVENT
DTSTART;TZID=Europe/Berlin:20260620T200000
DTEND;TZID=Europe/Berlin:20260620T220000
DTSTAMP:20260422T005454
CREATED:20251114T092922Z
LAST-MODIFIED:20251114T092922Z
UID:1798895-1781985600-1781992800@arthotel-kiebitzberg.de
SUMMARY:Vom Gehen und Bleiben - Erich Kästner und Mascha Kaléko
DESCRIPTION:Erleben Sie mit „Vom Gehen und Bleiben – Erich Kästner und Mascha Kaléko“ im ArtHotel Kiebitzberg Havelberg einen poetisch-theatralen Abend\, der Literatur und Zeitgeschichte auf faszinierende Weise lebendig werden lässt. Dieses besondere Theaterstück verbindet Sprache\, Emotion und Musik zu einem eindrucksvollen Erlebnis\, das Herz und Geist gleichermaßen berührt. \nIn „Vom Gehen und Bleiben“ begegnen sich zwei prägende Stimmen des 20. Jahrhunderts: Erich Kästner und Mascha Kaléko. Ausgangspunkt ist ein fiktives Arbeitstreffen –\neine Begegnung in einer Zeit des Umbruchs und der Hoffnung. In inspirierten Dialogen – gespeist aus Motiven und Gedanken ihrer Werke – teilen sie Erinnerungen\, Zweifel\, Witz und Sehnsucht. So entsteht ein vielschichtiges Bild künstlerischen Schaffens zwischen Vergangenheit und Gegenwart. \nDas Parktheater Edelbruch präsentiert im ArtHotel Kiebitzberg Havelberg einen Theaterabend\, der die Kraft der Literatur feiert und die Grenzen der Zeiten ineinanderfließen lässt.\n„Vom Gehen und Bleiben“ ist eine Reise durch die Seelenlandschaft zweier großer Autoren – und ein Plädoyer für Menschlichkeit\, Hoffnung und Poesie. \nVeranstaltungsinformationen\n\nDatum: Samstag\, 20. Juni 2026\nBeginn: 20:00 Uhr\nOrt: ArtHotel Kiebitzberg\, Havelberg\nVeranstalter: ArtHotel Kiebitzberg Havelberg\nDauer: ca. 90 Minuten\nTickets: reservix
URL:https://arthotel-kiebitzberg.de/en/event/vom-gehen-und-bleiben-erich-kaestner-und-mascha-kaleko/
LOCATION:ArtHotel Kiebitzberg®\, Schönberger Weg 6\, Havelberg\, Sachsen Anhalt\, 39539\, Deutschland
CATEGORIES:Lesung,SalonAbend
ATTACH;FMTTYPE=image/jpeg:https://arthotel-kiebitzberg.de/wp-content/uploads/sites/3/2025/11/Kaleko-fuer-web-scaled.jpg
ORGANIZER;CN="ArtHotel Kiebitzberg%C2%AE":MAILTO:arthotel@kiebitzberg.de
END:VEVENT
END:VCALENDAR