BEGIN:VCALENDAR
VERSION:2.0
PRODID:-//ArtHotel Kiebitzberg® - ECPv6.15.20//NONSGML v1.0//EN
CALSCALE:GREGORIAN
METHOD:PUBLISH
X-ORIGINAL-URL:https://arthotel-kiebitzberg.de/en
X-WR-CALDESC:Events for ArtHotel Kiebitzberg®
REFRESH-INTERVAL;VALUE=DURATION:PT1H
X-Robots-Tag:noindex
X-PUBLISHED-TTL:PT1H
BEGIN:VTIMEZONE
TZID:Europe/Berlin
BEGIN:DAYLIGHT
TZOFFSETFROM:+0100
TZOFFSETTO:+0200
TZNAME:CEST
DTSTART:20250330T010000
END:DAYLIGHT
BEGIN:STANDARD
TZOFFSETFROM:+0200
TZOFFSETTO:+0100
TZNAME:CET
DTSTART:20251026T010000
END:STANDARD
BEGIN:DAYLIGHT
TZOFFSETFROM:+0100
TZOFFSETTO:+0200
TZNAME:CEST
DTSTART:20260329T010000
END:DAYLIGHT
BEGIN:STANDARD
TZOFFSETFROM:+0200
TZOFFSETTO:+0100
TZNAME:CET
DTSTART:20261025T010000
END:STANDARD
BEGIN:DAYLIGHT
TZOFFSETFROM:+0100
TZOFFSETTO:+0200
TZNAME:CEST
DTSTART:20270328T010000
END:DAYLIGHT
BEGIN:STANDARD
TZOFFSETFROM:+0200
TZOFFSETTO:+0100
TZNAME:CET
DTSTART:20271031T010000
END:STANDARD
END:VTIMEZONE
BEGIN:VEVENT
DTSTART;TZID=Europe/Berlin:20260525T120000
DTEND;TZID=Europe/Berlin:20260525T203000
DTSTAMP:20260422T011328
CREATED:20260327T125044Z
LAST-MODIFIED:20260327T125044Z
UID:1799112-1779710400-1779741000@arthotel-kiebitzberg.de
SUMMARY:Pfingstmontag im Arthotel Kiebitzberg
DESCRIPTION:Lassen Sie das lange Pfingstwochenende entspannt bei uns ausklingen! \nAm Pfingstmontag ab 12:00 Uhr heißen wir Sie herzlich willkommen zu einem genussvollen à-la-carte-Erlebnis in angenehmer Atmosphäre. Freuen Sie sich auf frisch zubereitete Gerichte aus regionalen Zutaten und eine abwechslungsreiche Speisekarte\, die keine Wünsche offenlässt. \nOb mit der Familie\, Freunden oder zu zweit – genießen Sie eine kleine Auszeit und lassen Sie sich kulinarisch verwöhnen. \n✨ Wir empfehlen eine Tischreservierung – sichern Sie sich Ihren Platz! \n📞 Telefon: 039387 / 595151✉️ E-Mail: arthotel@kiebitzberg.de
URL:https://arthotel-kiebitzberg.de/en/event/pfingstmontag-im-arthotel-kiebitzberg/
LOCATION:Sachsen Anhalt
CATEGORIES:Gastronomie
ATTACH;FMTTYPE=image/jpeg:https://arthotel-kiebitzberg.de/wp-content/uploads/sites/3/2026/03/55372757_l.jpg
END:VEVENT
END:VCALENDAR