BEGIN:VCALENDAR
VERSION:2.0
PRODID:-//ArtHotel Kiebitzberg® - ECPv6.15.20//NONSGML v1.0//EN
CALSCALE:GREGORIAN
METHOD:PUBLISH
X-ORIGINAL-URL:https://arthotel-kiebitzberg.de/en
X-WR-CALDESC:Events for ArtHotel Kiebitzberg®
REFRESH-INTERVAL;VALUE=DURATION:PT1H
X-Robots-Tag:noindex
X-PUBLISHED-TTL:PT1H
BEGIN:VTIMEZONE
TZID:Europe/Berlin
BEGIN:DAYLIGHT
TZOFFSETFROM:+0100
TZOFFSETTO:+0200
TZNAME:CEST
DTSTART:20250330T010000
END:DAYLIGHT
BEGIN:STANDARD
TZOFFSETFROM:+0200
TZOFFSETTO:+0100
TZNAME:CET
DTSTART:20251026T010000
END:STANDARD
BEGIN:DAYLIGHT
TZOFFSETFROM:+0100
TZOFFSETTO:+0200
TZNAME:CEST
DTSTART:20260329T010000
END:DAYLIGHT
BEGIN:STANDARD
TZOFFSETFROM:+0200
TZOFFSETTO:+0100
TZNAME:CET
DTSTART:20261025T010000
END:STANDARD
BEGIN:DAYLIGHT
TZOFFSETFROM:+0100
TZOFFSETTO:+0200
TZNAME:CEST
DTSTART:20270328T010000
END:DAYLIGHT
BEGIN:STANDARD
TZOFFSETFROM:+0200
TZOFFSETTO:+0100
TZNAME:CET
DTSTART:20271031T010000
END:STANDARD
END:VTIMEZONE
BEGIN:VEVENT
DTSTART;TZID=Europe/Berlin:20260416T170000
DTEND;TZID=Europe/Berlin:20260416T200000
DTSTAMP:20260421T215201
CREATED:20260308T155747Z
LAST-MODIFIED:20260319T153335Z
UID:1798326-1776358800-1776369600@arthotel-kiebitzberg.de
SUMMARY:After-Work Grillabend
DESCRIPTION:Grillabend auf der Sonnenterrasse\nGenießen Sie einen entspannten After-Work-Grillabend auf unserer Sonnenterrasse mit herrlichem Blick auf die Havel. \nIn lockerer Atmosphäre erwarten Sie leckere Grillspezialitäten und erfrischende Getränke – perfekt\, um den Tag gemütlich ausklingen zu lassen. \nHinweis: Bitte reservieren Sie Ihre Plätze im Voraus. Bei schlechtem Wetter findet die Veranstaltung im Innenbereich statt. \nWeitere Termine 2026:\n30.04.\n\n07.05. | 28.05.\n\n11.06. | 25.06.\n\n09.07. | 30.07.\n\n13.08. | 27.08.\n\n10.09. | 24.09.\n\n\nPreis:\n42\,50 Euro pro Person \nKinderpreise:\nKinder bis 9 Jahre: 1 Euro pro Lebensjahr\nKinder & Jugendliche von 10 bis 16 Jahren: 22\,00 Euro \n☎️ Tischreservierung erforderlich\nTelefon: 039387 / 595151\n✉️ E-Mail: arthotel@kiebitzberg.de
URL:https://arthotel-kiebitzberg.de/en/event/after-work-grill-abend-4/
LOCATION:ArtHotel Kiebitzberg®\, Schönberger Weg 6\, Havelberg\, Sachsen Anhalt\, 39539\, Deutschland
CATEGORIES:Gastronomie
ATTACH;FMTTYPE=image/png:https://arthotel-kiebitzberg.de/wp-content/uploads/sites/3/2026/03/ChatGPT-Image-11.-Maerz-2026-13_28_48.png
END:VEVENT
END:VCALENDAR