BEGIN:VCALENDAR
VERSION:2.0
PRODID:-//ArtHotel Kiebitzberg® - ECPv6.15.20//NONSGML v1.0//EN
CALSCALE:GREGORIAN
METHOD:PUBLISH
X-WR-CALNAME:ArtHotel Kiebitzberg®
X-ORIGINAL-URL:https://arthotel-kiebitzberg.de/en
X-WR-CALDESC:Events for ArtHotel Kiebitzberg®
REFRESH-INTERVAL;VALUE=DURATION:PT1H
X-Robots-Tag:noindex
X-PUBLISHED-TTL:PT1H
BEGIN:VTIMEZONE
TZID:Europe/Berlin
BEGIN:DAYLIGHT
TZOFFSETFROM:+0100
TZOFFSETTO:+0200
TZNAME:CEST
DTSTART:20250330T010000
END:DAYLIGHT
BEGIN:STANDARD
TZOFFSETFROM:+0200
TZOFFSETTO:+0100
TZNAME:CET
DTSTART:20251026T010000
END:STANDARD
BEGIN:DAYLIGHT
TZOFFSETFROM:+0100
TZOFFSETTO:+0200
TZNAME:CEST
DTSTART:20260329T010000
END:DAYLIGHT
BEGIN:STANDARD
TZOFFSETFROM:+0200
TZOFFSETTO:+0100
TZNAME:CET
DTSTART:20261025T010000
END:STANDARD
BEGIN:DAYLIGHT
TZOFFSETFROM:+0100
TZOFFSETTO:+0200
TZNAME:CEST
DTSTART:20270328T010000
END:DAYLIGHT
BEGIN:STANDARD
TZOFFSETFROM:+0200
TZOFFSETTO:+0100
TZNAME:CET
DTSTART:20271031T010000
END:STANDARD
END:VTIMEZONE
BEGIN:VEVENT
DTSTART;TZID=Europe/Berlin:20260124T190000
DTEND;TZID=Europe/Berlin:20260124T210000
DTSTAMP:20260422T023311
CREATED:20250415T121119Z
LAST-MODIFIED:20260116T105050Z
UID:1798627-1769281200-1769288400@arthotel-kiebitzberg.de
SUMMARY:Felix Reuter - Alles nur geklaut! - Das verflixte Neujahrskonzert
DESCRIPTION:Am 24. Januar 2026 laden wir zum Neujahrskonzert mit Felix Reuter ein – einem Konzertabend\, der klassische Musik\, Humor und Improvisationskunst einzigartig verbindet. Felix Reuter ist Pianist\, Musikkomödiant und Entertainer und steht für intelligente Unterhaltung auf höchstem Niveau. \nDas Neujahrskonzert mit Felix Reuter wird zu einem kurzweiligen Ausflug durch 300 Jahre Musikgeschichte – voller musikalischer Überraschungen\, Wortwitz und brillanter Einfälle. \nImprovisierte Musikgeschichte – lebendig\, witzig & genial\nFelix Reuter zeigt keine fertigen Kompositionen. Stattdessen improvisiert er die Musikgeschichte auf höchst charmante und humorvolle Weise. Das Publikum erfährt\, wie eng Bach und Jazz verwandt sind\, entdeckt den Rock ’n’ Roll bei Mozart und lacht über seine originellen Variationen berühmter Klassikwerke. \nKlassik ist alles – nur nicht verstaubt\nKlassische Musik verstaubt? Kein bisschen! Beim Neujahrskonzert mit Felix Reuter zeigt er\, dass Musikgeschichte mit Witz und Kreativität lebendig wird. Evergreens\, die jeder kennt\, tauchen plötzlich in ganz neuen Formen auf: von der Werbung zur Symphonie oder vom Musical zu Bach. \nEin brillanter Jahresauftakt für Sie. Ihre Familie\, Freunde oder Kollegen. Ein Neujahrskonzert der besonderen Art\nWer Musik neu entdecken möchte\, wird begeistert sein. Das Neujahrskonzert mit Felix Reuter bietet brillante Improvisation\, spannende Geschichten und feinsten Humor. Ein einzigartiger Abend – inspirierend\, überraschend und grandios. \nZu den Tickets geht es hier!
URL:https://arthotel-kiebitzberg.de/en/event/felix-reuter-alles-nur-geklaut-das-verflixte-neujahrskonzert/
LOCATION:ArtHotel Kiebitzberg®\, Schönberger Weg 6\, Havelberg\, Sachsen Anhalt\, 39539\, Deutschland
CATEGORIES:Kabarett,Konzert,SalonAbend
ATTACH;FMTTYPE=image/jpeg:https://arthotel-kiebitzberg.de/wp-content/uploads/sites/3/2025/04/Felix-Reuter-Pressefoto-1-1-scaled.jpg
ORGANIZER;CN="ArtHotel Kiebitzberg%C2%AE":MAILTO:arthotel@kiebitzberg.de
END:VEVENT
END:VCALENDAR